BEGIN:VCALENDAR
VERSION:2.0
PRODID:-//Black Forest Fire Rescue - ECPv6.15.14//NONSGML v1.0//EN
CALSCALE:GREGORIAN
METHOD:PUBLISH
X-ORIGINAL-URL:https://www.bffire.org
X-WR-CALDESC:Events for Black Forest Fire Rescue
REFRESH-INTERVAL;VALUE=DURATION:PT1H
X-Robots-Tag:noindex
X-PUBLISHED-TTL:PT1H
BEGIN:VTIMEZONE
TZID:UTC
BEGIN:STANDARD
TZOFFSETFROM:+0000
TZOFFSETTO:+0000
TZNAME:UTC
DTSTART:20230101T000000
END:STANDARD
END:VTIMEZONE
BEGIN:VEVENT
DTSTART;TZID=UTC:20240911T173000
DTEND;TZID=UTC:20240911T190000
DTSTAMP:20260422T130219
CREATED:20240822T220838Z
LAST-MODIFIED:20240822T220852Z
UID:4492-1726075800-1726081200@www.bffire.org
SUMMARY:Girls Scouts
DESCRIPTION:
URL:https://www.bffire.org/event/girls-scouts/
CATEGORIES:Community Room/ Events
END:VEVENT
END:VCALENDAR