BEGIN:VCALENDAR
VERSION:2.0
PRODID:-//Black Forest Fire Rescue - ECPv6.15.14//NONSGML v1.0//EN
CALSCALE:GREGORIAN
METHOD:PUBLISH
X-ORIGINAL-URL:https://www.bffire.org
X-WR-CALDESC:Events for Black Forest Fire Rescue
REFRESH-INTERVAL;VALUE=DURATION:PT1H
X-Robots-Tag:noindex
X-PUBLISHED-TTL:PT1H
BEGIN:VTIMEZONE
TZID:UTC
BEGIN:STANDARD
TZOFFSETFROM:+0000
TZOFFSETTO:+0000
TZNAME:UTC
DTSTART:20250101T000000
END:STANDARD
END:VTIMEZONE
BEGIN:VEVENT
DTSTART;VALUE=DATE:20260420
DTEND;VALUE=DATE:20260425
DTSTAMP:20260418T060111
CREATED:20250924T173457Z
LAST-MODIFIED:20260115T175204Z
UID:5033-1776643200-1777075199@www.bffire.org
SUMMARY:Community room closed for Pikes Peak State College Fire Academy
DESCRIPTION:
URL:https://www.bffire.org/event/pikes-peak-state-college-fire-academy-13/
CATEGORIES:Community Room/ Events
END:VEVENT
BEGIN:VEVENT
DTSTART;TZID=UTC:20260422T173000
DTEND;TZID=UTC:20260422T193000
DTSTAMP:20260418T060111
CREATED:20251211T011554Z
LAST-MODIFIED:20260324T221631Z
UID:5161-1776879000-1776886200@www.bffire.org
SUMMARY:April Board Meeting
DESCRIPTION:For zoom link\, click here
URL:https://www.bffire.org/event/april-board-meeting/
CATEGORIES:Board Meetings
ATTACH;FMTTYPE=image/png:https://www.bffire.org/wp-content/uploads/2025/12/Board-Meeting-Date-1.png
END:VEVENT
END:VCALENDAR