BEGIN:VCALENDAR
VERSION:2.0
PRODID:-//Black Forest Fire Rescue - ECPv6.15.14//NONSGML v1.0//EN
CALSCALE:GREGORIAN
METHOD:PUBLISH
X-WR-CALNAME:Black Forest Fire Rescue
X-ORIGINAL-URL:https://www.bffire.org
X-WR-CALDESC:Events for Black Forest Fire Rescue
REFRESH-INTERVAL;VALUE=DURATION:PT1H
X-Robots-Tag:noindex
X-PUBLISHED-TTL:PT1H
BEGIN:VTIMEZONE
TZID:UTC
BEGIN:STANDARD
TZOFFSETFROM:+0000
TZOFFSETTO:+0000
TZNAME:UTC
DTSTART:20230101T000000
END:STANDARD
END:VTIMEZONE
BEGIN:VEVENT
DTSTART;TZID=UTC:20240905T190000
DTEND;TZID=UTC:20240905T210000
DTSTAMP:20260420T121937
CREATED:20240830T222343Z
LAST-MODIFIED:20240905T130208Z
UID:4499-1725562800-1725570000@www.bffire.org
SUMMARY:Board of Directors Special Meeting
DESCRIPTION:Special Meeting Notice \nAgenda
URL:https://www.bffire.org/event/board-of-directors-special-meeting-2/
CATEGORIES:Board Meetings
END:VEVENT
BEGIN:VEVENT
DTSTART;TZID=UTC:20240918T190000
DTEND;TZID=UTC:20240918T193000
DTSTAMP:20260420T121937
CREATED:20240917T173634Z
LAST-MODIFIED:20240917T173754Z
UID:4525-1726686000-1726687800@www.bffire.org
SUMMARY:Pension Board Meeting
DESCRIPTION:Pension Meeting Notice \n 
URL:https://www.bffire.org/event/pension-board-meeting/
CATEGORIES:Board Meetings
END:VEVENT
BEGIN:VEVENT
DTSTART;TZID=UTC:20240918T190000
DTEND;TZID=UTC:20240918T200000
DTSTAMP:20260420T121937
CREATED:20231220T230245Z
LAST-MODIFIED:20231220T230245Z
UID:4222-1726686000-1726689600@www.bffire.org
SUMMARY:Board Meeting
DESCRIPTION:
URL:https://www.bffire.org/event/board-meeting-34/
CATEGORIES:Board Meetings
ATTACH;FMTTYPE=image/jpeg:https://www.bffire.org/wp-content/uploads/2023/04/board-meeting.jpg
END:VEVENT
END:VCALENDAR