BEGIN:VCALENDAR
VERSION:2.0
PRODID:-//Black Forest Fire Rescue - ECPv6.15.14//NONSGML v1.0//EN
CALSCALE:GREGORIAN
METHOD:PUBLISH
X-WR-CALNAME:Black Forest Fire Rescue
X-ORIGINAL-URL:https://www.bffire.org
X-WR-CALDESC:Events for Black Forest Fire Rescue
REFRESH-INTERVAL;VALUE=DURATION:PT1H
X-Robots-Tag:noindex
X-PUBLISHED-TTL:PT1H
BEGIN:VTIMEZONE
TZID:UTC
BEGIN:STANDARD
TZOFFSETFROM:+0000
TZOFFSETTO:+0000
TZNAME:UTC
DTSTART:20240101T000000
END:STANDARD
END:VTIMEZONE
BEGIN:VEVENT
DTSTART;TZID=UTC:20251118T160000
DTEND;TZID=UTC:20251118T180000
DTSTAMP:20260418T101500
CREATED:20251106T172252Z
LAST-MODIFIED:20251106T172259Z
UID:5094-1763481600-1763488800@www.bffire.org
SUMMARY:Girl Scout Meeting
DESCRIPTION:
URL:https://www.bffire.org/event/girl-scout-meeting-6/
CATEGORIES:Community Room/ Events
END:VEVENT
END:VCALENDAR