BEGIN:VCALENDAR
VERSION:2.0
PRODID:-//Black Forest Fire Rescue - ECPv6.15.14//NONSGML v1.0//EN
CALSCALE:GREGORIAN
METHOD:PUBLISH
X-ORIGINAL-URL:https://www.bffire.org
X-WR-CALDESC:Events for Black Forest Fire Rescue
REFRESH-INTERVAL;VALUE=DURATION:PT1H
X-Robots-Tag:noindex
X-PUBLISHED-TTL:PT1H
BEGIN:VTIMEZONE
TZID:UTC
BEGIN:STANDARD
TZOFFSETFROM:+0000
TZOFFSETTO:+0000
TZNAME:UTC
DTSTART:20250101T000000
END:STANDARD
END:VTIMEZONE
BEGIN:VEVENT
DTSTART;TZID=UTC:20260301T100000
DTEND;TZID=UTC:20260301T140000
DTSTAMP:20260418T043855
CREATED:20260203T001234Z
LAST-MODIFIED:20260203T001234Z
UID:5257-1772359200-1772373600@www.bffire.org
SUMMARY:Wildblue Cats Meeting
DESCRIPTION:
URL:https://www.bffire.org/event/wildblue-cats-meeting/
CATEGORIES:Community Room/ Events
END:VEVENT
BEGIN:VEVENT
DTSTART;TZID=UTC:20260301T153000
DTEND;TZID=UTC:20260301T170000
DTSTAMP:20260418T043855
CREATED:20251211T010728Z
LAST-MODIFIED:20251211T010801Z
UID:5153-1772379000-1772384400@www.bffire.org
SUMMARY:Girl Scout Troop 49853
DESCRIPTION:
URL:https://www.bffire.org/event/girl-scout-troop-49853-5/
CATEGORIES:Community Room/ Events
END:VEVENT
BEGIN:VEVENT
DTSTART;VALUE=DATE:20260302
DTEND;VALUE=DATE:20260307
DTSTAMP:20260418T043855
CREATED:20250924T173016Z
LAST-MODIFIED:20260115T180913Z
UID:5019-1772409600-1772841599@www.bffire.org
SUMMARY:Community room closed for Pikes Peak State College Fire Academy
DESCRIPTION:
URL:https://www.bffire.org/event/pikes-peak-state-college-fire-academy-6/
CATEGORIES:Community Room/ Events
END:VEVENT
BEGIN:VEVENT
DTSTART;VALUE=DATE:20260309
DTEND;VALUE=DATE:20260314
DTSTAMP:20260418T043855
CREATED:20250924T173042Z
LAST-MODIFIED:20260115T180618Z
UID:5021-1773014400-1773446399@www.bffire.org
SUMMARY:Community room closed for Pikes Peak State College Fire Academy
DESCRIPTION:
URL:https://www.bffire.org/event/pikes-peak-state-college-fire-academy-7/
CATEGORIES:Community Room/ Events
END:VEVENT
BEGIN:VEVENT
DTSTART;TZID=UTC:20260315T153000
DTEND;TZID=UTC:20260315T170000
DTSTAMP:20260418T043855
CREATED:20251211T010824Z
LAST-MODIFIED:20251211T010824Z
UID:5155-1773588600-1773594000@www.bffire.org
SUMMARY:Girl Scout Troop 49853
DESCRIPTION:
URL:https://www.bffire.org/event/girl-scout-troop-49853-6/
CATEGORIES:Community Room/ Events
END:VEVENT
BEGIN:VEVENT
DTSTART;VALUE=DATE:20260316
DTEND;VALUE=DATE:20260321
DTSTAMP:20260418T043855
CREATED:20250924T173107Z
LAST-MODIFIED:20260115T175516Z
UID:5023-1773619200-1774051199@www.bffire.org
SUMMARY:Community room closed for Pikes Peak State College Fire Academy
DESCRIPTION:
URL:https://www.bffire.org/event/pikes-peak-state-college-fire-academy-8/
CATEGORIES:Community Room/ Events
END:VEVENT
BEGIN:VEVENT
DTSTART;VALUE=DATE:20260323
DTEND;VALUE=DATE:20260328
DTSTAMP:20260418T043855
CREATED:20250924T173131Z
LAST-MODIFIED:20260115T175448Z
UID:5025-1774224000-1774655999@www.bffire.org
SUMMARY:Community room closed for Pikes Peak State College Fire Academy
DESCRIPTION:
URL:https://www.bffire.org/event/pikes-peak-state-college-fire-academy-9/
CATEGORIES:Community Room/ Events
END:VEVENT
BEGIN:VEVENT
DTSTART;TZID=UTC:20260325T173000
DTEND;TZID=UTC:20260325T203000
DTSTAMP:20260418T043855
CREATED:20251211T005035Z
LAST-MODIFIED:20260326T003105Z
UID:5143-1774459800-1774470600@www.bffire.org
SUMMARY:March Board Meeting
DESCRIPTION:For zoom link\, click here \nBlack Forest Fire/Rescue Protection District\n11445 Teachout Rd.\nColorado Springs\, CO 80908 \n\nBlack Forest Fire Rescue \n\nNOTICE OF REGULAR MEETING AND AGENDA\nBoard of Directors: Office:\nKiersten Tarvainen Chairman\nJim Abendschan Vice-Chairman\nTom Joyce Treasurer\nNate Dowden Director\nJohn Tarvainen Director\nDATE: March 25\, 2026\nTIME: 5:30 p.m.\nPLACE: Station 1 Community Room \n1. Meeting called to order\n2. Roll Call\n3. Call to Order\, Declaration of quorum\n4. Review and potential approval of meeting agenda\n5. Review and consider approval of minutes of February 11th\, 2026\, regular meeting and February 18th\, 2026\, special meeting.\n6. Department report presented by Department Staff\n7. Old business:\n• Employee Group – nothing to report\n8. New business:\n• Review\, consideration\, and potential action regarding donation policy (enclosure).\n• Review\, consideration\, and potential action regarding donation of property from Stimple Family\nLLLP.\n• Executive session pursuant to C.R.S. 24-6-402(4)(a) – regarding the potential acquisition of the donated property\nfrom Stimple Family LLP.\n• Executive session pursuant to C.R.S. 24-6-402(4)(b) – to receive legal advice regarding donation of property from\nStimple Family LLP.\n• Update wage and leave schedule\n• Potential action regarding wage and leave schedule\n9. Board member reports on workshops/meetings attended\n10. Correspondence\n11. Public Comments. Comments will be limited to 3 minutes per person\n12. Announcement of future meeting dates.\n13. Adjournment\nRECORD OF PROCEEDINGS\nMINUTES OF A REGULAR MEETING OF THE\nBOARD OF DIRECTORS OF THE\nBLACK FOREST
URL:https://www.bffire.org/event/board-of-directors-meeting-13/
CATEGORIES:Board Meetings
ATTACH;FMTTYPE=image/png:https://www.bffire.org/wp-content/uploads/2025/12/Board-Meeting-Date.png
END:VEVENT
BEGIN:VEVENT
DTSTART;VALUE=DATE:20260330
DTEND;VALUE=DATE:20260404
DTSTAMP:20260418T043855
CREATED:20250924T173221Z
LAST-MODIFIED:20260115T175412Z
UID:5027-1774828800-1775260799@www.bffire.org
SUMMARY:Community room closed for Pikes Peak State College Fire Academy
DESCRIPTION:
URL:https://www.bffire.org/event/pikes-peak-state-college-fire-academy-10/
CATEGORIES:Community Room/ Events
END:VEVENT
END:VCALENDAR